BEGIN:VCALENDAR
VERSION:2.0
PRODID:-//Mountain Vibez - ECPv6.15.20//NONSGML v1.0//EN
CALSCALE:GREGORIAN
METHOD:PUBLISH
X-ORIGINAL-URL:https://mountainvibez.com
X-WR-CALDESC:Events for Mountain Vibez
REFRESH-INTERVAL;VALUE=DURATION:PT1H
X-Robots-Tag:noindex
X-PUBLISHED-TTL:PT1H
BEGIN:VTIMEZONE
TZID:America/Denver
BEGIN:DAYLIGHT
TZOFFSETFROM:-0700
TZOFFSETTO:-0600
TZNAME:MDT
DTSTART:20180311T090000
END:DAYLIGHT
BEGIN:STANDARD
TZOFFSETFROM:-0600
TZOFFSETTO:-0700
TZNAME:MST
DTSTART:20181104T080000
END:STANDARD
BEGIN:DAYLIGHT
TZOFFSETFROM:-0700
TZOFFSETTO:-0600
TZNAME:MDT
DTSTART:20190310T090000
END:DAYLIGHT
BEGIN:STANDARD
TZOFFSETFROM:-0600
TZOFFSETTO:-0700
TZNAME:MST
DTSTART:20191103T080000
END:STANDARD
BEGIN:DAYLIGHT
TZOFFSETFROM:-0700
TZOFFSETTO:-0600
TZNAME:MDT
DTSTART:20200308T090000
END:DAYLIGHT
BEGIN:STANDARD
TZOFFSETFROM:-0600
TZOFFSETTO:-0700
TZNAME:MST
DTSTART:20201101T080000
END:STANDARD
BEGIN:DAYLIGHT
TZOFFSETFROM:-0700
TZOFFSETTO:-0600
TZNAME:MDT
DTSTART:20210314T090000
END:DAYLIGHT
BEGIN:STANDARD
TZOFFSETFROM:-0600
TZOFFSETTO:-0700
TZNAME:MST
DTSTART:20211107T080000
END:STANDARD
END:VTIMEZONE
BEGIN:VTIMEZONE
TZID:America/Los_Angeles
BEGIN:DAYLIGHT
TZOFFSETFROM:-0800
TZOFFSETTO:-0700
TZNAME:PDT
DTSTART:20180311T100000
END:DAYLIGHT
BEGIN:STANDARD
TZOFFSETFROM:-0700
TZOFFSETTO:-0800
TZNAME:PST
DTSTART:20181104T090000
END:STANDARD
BEGIN:DAYLIGHT
TZOFFSETFROM:-0800
TZOFFSETTO:-0700
TZNAME:PDT
DTSTART:20190310T100000
END:DAYLIGHT
BEGIN:STANDARD
TZOFFSETFROM:-0700
TZOFFSETTO:-0800
TZNAME:PST
DTSTART:20191103T090000
END:STANDARD
BEGIN:DAYLIGHT
TZOFFSETFROM:-0800
TZOFFSETTO:-0700
TZNAME:PDT
DTSTART:20200308T100000
END:DAYLIGHT
BEGIN:STANDARD
TZOFFSETFROM:-0700
TZOFFSETTO:-0800
TZNAME:PST
DTSTART:20201101T090000
END:STANDARD
END:VTIMEZONE
BEGIN:VEVENT
DTSTART;VALUE=DATE:20200112
DTEND;VALUE=DATE:20200113
DTSTAMP:20260422T212333
CREATED:20191101T014154Z
LAST-MODIFIED:20191101T014154Z
UID:7274-1578787200-1578873599@mountainvibez.com
SUMMARY:Mountain Vibez "We Shred For Hope" at Mt. High
DESCRIPTION:Join us for our own event called “We Shred For Hope” at Mt. High.
URL:https://mountainvibez.com/event/mountain-vibez-we-shred-for-hope-at-mt-high/
LOCATION:Mountain High\, Mountain High Resort\, Wrightwood\, CA\, United States
END:VEVENT
BEGIN:VEVENT
DTSTART;VALUE=DATE:20191221
DTEND;VALUE=DATE:20191222
DTSTAMP:20260422T212333
CREATED:20191101T013610Z
LAST-MODIFIED:20191101T013610Z
UID:7269-1576886400-1576972799@mountainvibez.com
SUMMARY:Peanut Butter Jelly Jam at Mt. High
DESCRIPTION:Come out and join us for this fun rail jam event at Mt. High\, CA hosted by Pharmacy and Volcom.
URL:https://mountainvibez.com/event/peanut-butter-jelly-jam-at-mt-high/
LOCATION:Mountain High\, Mountain High Resort\, Wrightwood\, CA\, United States
END:VEVENT
BEGIN:VEVENT
DTSTART;VALUE=DATE:20191122
DTEND;VALUE=DATE:20191123
DTSTAMP:20260422T212333
CREATED:20191101T013227Z
LAST-MODIFIED:20191101T013227Z
UID:7266-1574380800-1574467199@mountainvibez.com
SUMMARY:Fundraiser in Big Bear
DESCRIPTION:Join us for a fundraiser at Whiskey Daves to help us raise money for our non-profit\, Good Vibez.
URL:https://mountainvibez.com/event/fundraiser-in-big-bear/
LOCATION:Whiskey Daves\, 40740 Village Dr\, Big Bear Lake\, CA\, 92315\, United States
END:VEVENT
BEGIN:VEVENT
DTSTART;VALUE=DATE:20191115
DTEND;VALUE=DATE:20191119
DTSTAMP:20260422T212333
CREATED:20191101T012955Z
LAST-MODIFIED:20191101T012955Z
UID:7263-1573776000-1574121599@mountainvibez.com
SUMMARY:Mammoth Free Ride Meet Up
DESCRIPTION:Come ride with us at Mammoth Mountain Nov 15th-18th.
URL:https://mountainvibez.com/event/mammoth-free-ride-meet-up/
LOCATION:Mammoth\, Mammoth Mountain\, Mammoth\, CA\, United States
END:VEVENT
BEGIN:VEVENT
DTSTART;TZID=America/Denver:20191109T160000
DTEND;TZID=America/Denver:20191109T190000
DTSTAMP:20260422T212333
CREATED:20191101T012241Z
LAST-MODIFIED:20191101T012241Z
UID:7258-1573315200-1573326000@mountainvibez.com
SUMMARY:Colorado Fundraiser at Spoon Cafe
DESCRIPTION:
URL:https://mountainvibez.com/event/colorado-fundraiser-at-spoon-cafe/
LOCATION:Spoon Cafe\, 195 River Run Rd\, Keystone\, CA\, 80435\, United States
END:VEVENT
BEGIN:VEVENT
DTSTART;TZID=America/Denver:20191106T080000
DTEND;TZID=America/Denver:20191110T170000
DTSTAMP:20260422T212333
CREATED:20191101T012707Z
LAST-MODIFIED:20191101T012707Z
UID:7261-1573027200-1573405200@mountainvibez.com
SUMMARY:Colorado Visit
DESCRIPTION:
URL:https://mountainvibez.com/event/colorado-visit/
LOCATION:CA
END:VEVENT
BEGIN:VEVENT
DTSTART;VALUE=DATE:20191019
DTEND;VALUE=DATE:20191020
DTSTAMP:20260422T212333
CREATED:20191101T011830Z
LAST-MODIFIED:20191101T011830Z
UID:7253-1571443200-1571529599@mountainvibez.com
SUMMARY:Joy Premier
DESCRIPTION:
URL:https://mountainvibez.com/event/joy-premier/
LOCATION:Hollywood\, CA\, United States
END:VEVENT
END:VCALENDAR